{"text_format":"3","workbook":"xlsx","n_sheets":1,"sheets":["1"],"not_rendered":{"external_links":1},"read":"whole","date_system":"1900"}

{"sheet":"1","index":0,"n_rows":18,"n_cols":10,"rows_kept":18,"merged":[[0,1,0,3]]}
["Школа","Филиал МБОУ СОШ с.Кабакуш ООШ с.Кундряк",null,null,"Отд./корп","1-4 кл",null,null,"День","2025-09-11"]
[]
["Прием пищи","Раздел","№ рец.","Блюдо","Выход, г","Цена","Калорийность","Белки","Жиры","Углеводы"]
["Завтрак","гор.блюдо",{"$f":"'[1]04.10.2025'!A194","v":"46/3"},{"$f":"'[1]04.10.2025'!B194","v":"Макаронные изделия отварные"},{"$f":"'[1]04.10.2025'!G194","v":189},null,{"$f":"'[1]04.10.2025'!G148","v":253},{"$f":"'[1]04.10.2025'!D194","v":5.3},{"$f":"'[1]04.10.2025'!E194","v":3.5},{"$f":"'[1]04.10.2025'!F194","v":34.1}]
[null,"гор.блюдо",{"$f":"'[1]04.10.2025'!A195","v":"2/9"},{"$f":"'[1]04.10.2025'!B195","v":"Мясо кур отварное в соусе"},{"$f":"'[1]04.10.2025'!G195","v":141},null,{"$f":"'[1]04.10.2025'!G149","v":170},{"$f":"'[1]04.10.2025'!D195","v":10.5},{"$f":"'[1]04.10.2025'!E195","v":10.1},{"$f":"'[1]04.10.2025'!F195","v":2.1}]
[null,"хлеб",{"$f":"'[1]04.10.2025'!A150","v":"-"},{"$f":"'[1]04.10.2025'!B150","v":"Хлеб пшеничный"},74,null,{"$f":"'[1]04.10.2025'!G150","v":74},{"$f":"'[1]04.10.2025'!D197","v":2.4},{"$f":"'[1]04.10.2025'!E197","v":0.3},{"$f":"'[1]04.10.2025'!F197","v":15.5}]
[null,"гор. Напиток",{"$f":"'[1]04.10.2025'!A196","v":"32/10"},{"$f":"'[1]04.10.2025'!B196","v":"Кофейный напиток с молоком"},43,null,{"$f":"'[1]04.10.2025'!G151","v":41},{"$f":"'[1]04.10.2025'!D196","v":{"v":1.41,"d":"1.4"}},{"$f":"'[1]04.10.2025'!E196","v":{"v":1.44,"d":"1.4"}},{"$f":"'[1]04.10.2025'!F196","v":{"v":6.47,"d":"6.5"}}]
[null,"фрукты",{"$f":"'[1]04.10.2025'!A152","v":"-"},{"$f":"'[1]04.10.2025'!B152","v":"Яблоки"},{"$f":"'[1]04.10.2025'!G198","v":48},71.09,{"$f":"'[1]04.10.2025'!G152","v":{"v":48.68,"d":"49"}},{"$f":"'[1]04.10.2025'!D152","v":0.4},{"$f":"'[1]04.10.2025'!E152","v":0.4},{"$f":"'[1]04.10.2025'!F152","v":11.6}]
["Завтрак 2","фрукты"]
[]
[]
["Обед","закуска"]
[null,"1 блюдо"]
[null,"2 блюдо"]
[null,"гарнир"]
[null,"сладкое"]
[null,"хлеб бел."]
[null,"хлеб черн."]