{"text_format":"3","workbook":"xlsx","n_sheets":1,"sheets":["1"],"not_rendered":{"external_links":1},"read":"whole","date_system":"1900"}

{"sheet":"1","index":0,"n_rows":18,"n_cols":10,"rows_kept":18,"merged":[[0,1,0,3]]}
["Школа","Филиал МБОУ СОШ с.Кабакуш ООШ с.Кундряк",null,null,"Отд./корп","1-4",null,null,"День","2025-10-17"]
[]
["Прием пищи","Раздел","№ рец.","Блюдо","Выход, г","Цена","Калорийность","Белки","Жиры","Углеводы"]
["Завтрак","гор.блюдо",{"$f":"'[1]04.10.2025'!A81","v":"21, сб. 2024"},{"$f":"'[1]04.10.2025'!B81","v":"Салат витаминный "},{"$f":"'[1]04.10.2025'!C81","v":"60"},null,{"$f":"'[1]04.10.2025'!G81","v":62},{"$f":"'[1]04.10.2025'!D81","v":{"v":0.96,"d":"1"}},{"$f":"'[1]04.10.2025'!E81","v":{"v":3.04,"d":"3"}},{"$f":"'[1]04.10.2025'!F81","v":{"v":8.48,"d":"8"}}]
[null,"гор.напиток",{"$f":"'[1]04.10.2025'!A82","v":"138, сб.2024"},{"$f":"'[1]04.10.2025'!B82","v":"Плов из грудки "},{"$f":"'[1]04.10.2025'!C82","v":"200"},null,{"$f":"'[1]04.10.2025'!G82","v":417},{"$f":"'[1]04.10.2025'!D82","v":{"v":18.2,"d":"18"}},{"$f":"'[1]04.10.2025'!E82","v":{"v":23.2,"d":"23"}},{"$f":"'[1]04.10.2025'!F82","v":{"v":32.2,"d":"32"}}]
[null,"хлеб",{"$f":"'[1]04.10.2025'!A83","v":"-"},{"$f":"'[1]04.10.2025'!B83","v":"Хлеб пшеничный"},{"$f":"'[1]04.10.2025'!C83","v":"30"},null,{"$f":"'[1]04.10.2025'!G83","v":74},{"$f":"'[1]04.10.2025'!D83","v":{"v":2.4,"d":"2"}},{"$f":"'[1]04.10.2025'!E83","v":{"v":0.3,"d":"0"}},{"$f":"'[1]04.10.2025'!F83","v":{"v":15.5,"d":"16"}}]
[null,"фрукты",{"$f":"'[1]04.10.2025'!A84","v":"-"},{"$f":"'[1]04.10.2025'!B84","v":"Печенье к чаю"},{"$f":"'[1]04.10.2025'!C84","v":20},null,{"$f":"'[1]04.10.2025'!G84","v":86},{"$f":"'[1]04.10.2025'!D84","v":{"v":1.4,"d":"1"}},{"$f":"'[1]04.10.2025'!E84","v":{"v":3.7,"d":"4"}},{"$f":"'[1]04.10.2025'!F84","v":{"v":11.9,"d":"12"}}]
[null,null,{"$f":"'[1]04.10.2025'!A85","v":"300, сб. 2024"},{"$f":"'[1]04.10.2025'!B85","v":"Чай с сахаром "},{"$f":"'[1]04.10.2025'!C85","v":"200"},71.09,{"$f":"'[1]04.10.2025'!G85","v":36},{"$f":"'[1]04.10.2025'!D85","v":{"v":0.19,"d":"0"}},{"$f":"'[1]04.10.2025'!E85","v":{"v":0.04,"d":"0"}},{"$f":"'[1]04.10.2025'!F85","v":{"v":9.22,"d":"9"}}]
["Завтрак 2","фрукты"]
[]
[]
["Обед","закуска"]
[null,"1 блюдо"]
[null,"2 блюдо"]
[null,"гарнир"]
[null,"сладкое"]
[null,"хлеб бел."]
[null,"хлеб черн."]